BEGIN:VCALENDAR
VERSION:2.0
PRODID:-//eventon.com NONSGML v1.0//EN
CALSCALE:GREGORIAN
METHOD:PUBLISH
BEGIN:VEVENT
UID:69ed0ef1631cb
DTSTAMP:20260425T185857Z
DTSTART:20210525T100000Z
DTEND:20210530T170000Z
LOCATION:Andreas Winter Coching Birkenstraße 16\,  58644 Iserlohn
SUMMARY:Die neue Masterclass (Mai 2021)
DESCRIPTION:Die neue Masterclass! Sechs intensive Kurstage mit Andreas Wint
 er und seinem Team! Ausbildungsleiter: Dipl.-Päd. Andreas Winter Seminarze
 iten: Dienstag: 10:00 -17:00 Uhr (Andreas Winter) Mittwoch: 10:00 -18:00 Uh
 r (Andreas WInter) Donnerstag: 10:00 -18:00 Uhr (Katja Rosenbaum*) Freitag:
  10:00 – 18:00 Uhr (Marc Gruß*) Samstag: 10:00 – 22:00 Uhr (Andreas Wi
 nter) Sonntag:[..]\nhttps://andreaswinter.de/events/kombikurs-basis-masterc
 lass-6/
URL:https://andreaswinter.de/events/kombikurs-basis-masterclass-6/
END:VEVENT
END:VCALENDAR