BEGIN:VCALENDAR
VERSION:2.0
PRODID:-//eventon.com NONSGML v1.0//EN
CALSCALE:GREGORIAN
METHOD:PUBLISH
BEGIN:VEVENT
UID:69e734a88e6d8
DTSTAMP:20260421T082616Z
DTSTART:20241104T170000Z
DTEND:20241104T181500Z
LOCATION:Andreas Winter Coaching Birkenstraße 16\,  58644 Iserlohn
SUMMARY:SchülerCoaching Online\,  3 x 75 Minuten (von 10 bis 16 Jahre)
DESCRIPTION:Schülercoaching statt Nachhilfe! Mühelos wieder bessere Noten
  erzielen! In diesem (anonymen) Online Gruppencoaching wird alles vermittel
 t was ein Schüler braucht\,  um wieder gelassen und motiviert dem Unterric
 ht zu folgen\,  bessere Klassenarbeiten zu schreiben\,  seine Noten zu stei
 gern\,  die Schulzeit gut zu überstehen. Das Coaching ist auf vier Einheit
 en aufgebaut. Bitte[..]\nhttps://andreaswinter.de/events/schuelercoaching-o
 nline/
URL:https://andreaswinter.de/events/schuelercoaching-online/
END:VEVENT
END:VCALENDAR