BEGIN:VCALENDAR
VERSION:2.0
PRODID:-//eventon.com NONSGML v1.0//EN
CALSCALE:GREGORIAN
METHOD:PUBLISH
BEGIN:VEVENT
UID:69e885f45851d
DTSTAMP:20260422T082524Z
DTSTART:20220407T170000Z
DTEND:20220407T190000Z
LOCATION:
SUMMARY:Buchpräsentation: Die Psychologie des Jungbleibens - So drehen Sie Ihre biologische Uhr zurück
DESCRIPTION:Buchpräsentation: Die Psychologie des Jungbleibens - So drehen
  Sie Ihre biologische Uhr zurück\nhttps://andreaswinter.de/events/buchprae
 sentation-die-psychologie-des-jungbleibens-so-drehen-sie-ihre-biologische-u
 hr-zurueck/
URL:https://andreaswinter.de/events/buchpraesentation-die-psychologie-des-jungbleibens-so-drehen-sie-ihre-biologische-uhr-zurueck/
END:VEVENT
END:VCALENDAR